BEGIN:VCALENDAR
VERSION:2.0
PRODID:-//Harmony &amp; Healingpoint Reinheim - ECPv6.3.7//NONSGML v1.0//EN
CALSCALE:GREGORIAN
METHOD:PUBLISH
X-WR-CALNAME:Harmony &amp; Healingpoint Reinheim
X-ORIGINAL-URL:https://healingpoint-reinheim.de
X-WR-CALDESC:Veranstaltungen für Harmony &amp; Healingpoint Reinheim
REFRESH-INTERVAL;VALUE=DURATION:PT1H
X-Robots-Tag:noindex
X-PUBLISHED-TTL:PT1H
BEGIN:VTIMEZONE
TZID:Europe/Berlin
BEGIN:DAYLIGHT
TZOFFSETFROM:+0100
TZOFFSETTO:+0200
TZNAME:CEST
DTSTART:20250330T010000
END:DAYLIGHT
BEGIN:STANDARD
TZOFFSETFROM:+0200
TZOFFSETTO:+0100
TZNAME:CET
DTSTART:20251026T010000
END:STANDARD
END:VTIMEZONE
BEGIN:VEVENT
DTSTART;TZID=Europe/Berlin:20250412T093000
DTEND;TZID=Europe/Berlin:20250413T170000
DTSTAMP:20260421T012640
CREATED:20230519T052127Z
LAST-MODIFIED:20241125T181504Z
UID:497-1744450200-1744563600@healingpoint-reinheim.de
SUMMARY:Japanische Schädelakupunktur (YNSA)
DESCRIPTION:Eines der wirkungsvollsten Akupunktursysteme\n\n\n\n\nDie Japanische Schädelakupunktur nach Yamamoto ist eine noch relativ junge Form der Akupunktur. Ihre Entstehung geht auf Dr. Toshikatsu Yamamoto Anfang der 70er Jahre des Zwanzigsten Jahrhunderts zurück. Durch kontinuierliche Weiterentwicklung ist sie mittlerweile zu einem unverzichtbaren Bestandteil der Akupunktur geworden. \nSie bringt vielfältige Einsatzmöglichkeiten bei der Behandlung von akuten und chronischen Beschwerden unterschiedlicher Genese sowie Schmerzgeschehen mit sich. Weitere Stärken liegen im Einsatz bei neurologischen Geschehen wie z.B. bei Folgen von Apoplex\, Epilepsie oder Tinnitus. \nUnter Anleitung erlernen Sie die therapeutischen und diagnostischen Möglichkeiten der Schädelakupunktur. Vorkenntnisse der Akupunktur sind hierbei nicht erforderlich. Die erworbenen Kenntnisse\, eine sichere Punktbestimmung sowie der Gebrauch der Nadel werden ausreichend praktisch erprobt. Besprechungen ausgewählter Krankheitsbilder runden das Seminar ab. \n  \nDie Kursinhalte im Detail: \n\nGeschichtliches\nTheoretische Grundlagen\nBasispunkte\, Y-Punkte\, Sinnesorganpunkte\nYNSA-spezifische Bauchdeckendiagnose\nIndikationen\, Kontraindikationen\nSichere Punktewahl\nStichtechnik\nEinsatz bei bestimmten Krankheitsbildern\nPraktische Umsetzung\n\n  \nAm Ende des 2-tägigen Kurses sind Sie in der Lage\, die Schädelakupunktur erfolgreich in der Praxis einzusetzen. \n\nEiner der Klassiker unserer Akupunktur-Seminare mit Heilpraktiker Ralf Bulgrin. Herr Bulgrin durfte die Schädelakupunktur bei Dr. Yamamoto direkt erlernen. \nZugangsvoraussetzung: \nHeilpraktiker\, HPA\, Ärzte \n \n\n\n\n\n\n\nGleich anmelden\n\n\nDer DSGVO entsprechend\, erheben wir mit unserem Anmeldeformular nur ein Minimum personenbezogener Daten\, die wir zur korrekten Abwicklung Ihrer Anmeldung und zur Kontaktaufnahme mit Ihnen zwecks Anmeldebestätigung und Rechnungsstellung benötigen. Wir nehmen den Datenschutz sehr ernst und informieren Sie in unseren Hinweisen zum Datenschutz ausführlich. \n\n\n\n* Pflichtangabe\n** Wenn Sie die Terminangabe frei lassen\, gehen wir automatisch vom ersten angebotenen Termin für das genannte Wunschseminar aus.\n\nWähle die Veranstaltung *Sanfte manuelle Methoden (Original-Dornmethode)Kinesio-Body-TapeMulti-Kausale SchmerztherapieHolistisch Medizinische Kinesiologie\, Allergien\, Ängste\, Phobien & SüchteDie Welt der HeilsteineTimeWaver\, Frequency\, HealyHolistisch Medizinische Kinesiologie\, Beckenstatik und WirbelsäuleNadelfreie OhrakupressurDie Weiterführung der Dornmethode im professionellen Bereich Die Dynamische Wirbelsäulentherapie nach Popp®Hollistisch transdiagnostische PsychotherapieHMK\, Modul PsychokinesiologieBachblüten\, Webinar für EinsteigerBachblüten\, Webinar für FortgeschritteneOriginal DornmethodeTouch for HealthMulti-Kausale-SchmerztherapieFußreflexzonen-TherapieBreuss-MassageOhrakupunktur\, Modul 1 und 2SpiraldynamikHolistisch Medizinische Kinesiologe -Grundkurs-Vortrag -Informationsmedizin-Japanische Schädelakupunktur (YNSA)Klangschalen-WorkshopWahrnehmung und IntuitionDatum *Anrede *FrauHerrDiverseVor- und Nachname *Straße und Hausnummer *PLZ\, Ort *Email *Telefonnummer *Deine Nachricht an uns *CommentSenden\n\nGEBÜHREN\nDie Veranstaltungsgebühr ist bis 1 Woche vor Veranstaltungstermin auf das angegebene Bankkonto zu überweisen. Die Höhe der Gebühr entnehmen Sie bitte unserem aktuellen Programm. \nSTORNIERUNG\, ABSAGEN\nFalls bis 1 Woche vor Termin die erforderliche Teilnehmerzahl nicht erreicht wird\, kann die Veranstaltung von der Heilpraktikerschule Darmstadt kurzfristig abgesagt werden. Bereits gezahlte Gebühren werden zurückerstattet. \nBei Absagen von Ihrer Seite aus bis 4 Wochen vor Termin fallen keine Kosten an.\nBei Absage bis 2 Wochen vor Termin: 50% der ausgewiesenen Gebühr\, bis 1 Woche vor Termin: 75%. \nErfolgt die Absage noch kurzfristiger\, bleibt der Teilnehmer der Veranstaltung fern oder verlässt die laufende Veranstaltung\, wird die volle Teilnahmegebühr fällig. \nDiese Regelung gilt unabhängig von den Gründen\, sofern diese nicht in der Verantwortung des Veranstalters liegen. Gezahlte Teilnahmegebühren können nicht zurück erstattet werden\, es sei denn\, die Heilpraktikerschule Darmstadt sagt eine geplante Veranstaltung ab. \nSONSTIGE INFORMATIONEN\nSofern in unserem Programm nicht anders angegeben\, finden alle Veranstaltungen in unseren Schulräumen statt.
URL:https://healingpoint-reinheim.de/event/japanische-schaedelakupunktur-ynsa/
LOCATION:Harmony & Healing Point Reinheim\, Goethestr. 9\, Reinheim\, Hessen\, 64354\, Deutschland
CATEGORIES:Veranstaltungen
END:VEVENT
END:VCALENDAR